BEGIN:VCALENDAR
VERSION:2.0
PRODID:http://www.pr-dillingen.de
BEGIN:VEVENT
UID:fb43ecb3-3fb1-11f1-a3e9-0242ac11002b-1779519600000-de
DTSTAMP:20260424T074828Z
DTSTART:20260523T070000Z
DTEND:20260523T140000Z
SUMMARY;LANGUAGE=de:Basis-Schulung "Prävention gegen sexualisierte Gewalt"
DESCRIPTION;LANGUAGE=de:Gemeinsam für Prävention gegen sexualisierte Gewalt – eine wesentliche Aufgabe für haupt-\, neben- und ehrenamtlichen Mitarbeitenden im Bistums Trier!
LOCATION;LANGUAGE=de:"Sälchen" Heilig Sakrament Dillingen\, Saarstraße 45\, 66763 Dillingen / Saar\,
Das Sälchen Heilig Sakrament befindet sich im 1. Stock. Um in das Sälchen zu gelangen müssen Sie gegenüber des Eingangs zum Pfarrbüro / Pfarrhaus Heilig Sakrament\, die Treppe nutzen.
END:VEVENT
END:VCALENDAR
