BEGIN:VCALENDAR
VERSION:2.0
PRODID:http://www.pr-dillingen.de
BEGIN:VEVENT
UID:dffbb1b9-3d2e-11f1-a3e9-0242ac11002b-1779289200000-de
DTSTAMP:20260421T030456Z
DTSTART:20260520T150000Z
DTEND:20260520T154500Z
SUMMARY;LANGUAGE=de:Maiandacht an der Marienkapelle, Treffen am Pater-Ferdi-Philippi-Platz (bei Regen in der Kirche)
END:VEVENT
END:VCALENDAR
