BEGIN:VCALENDAR
VERSION:2.0
PRODID:http://www.pr-dillingen.de
BEGIN:VEVENT
UID:ddc15204-3d2e-11f1-a3e9-0242ac11002b-1778515200000-de
DTSTAMP:20260421T030452Z
DTSTART:20260511T160000Z
DTEND:20260511T171500Z
SUMMARY;LANGUAGE=de: Bittprozession, anschl. Bittmesse, Treffen auf dem Kirchenvorplatz 
END:VEVENT
END:VCALENDAR
