BEGIN:VCALENDAR
VERSION:2.0
PRODID:http://www.pr-dillingen.de
BEGIN:VEVENT
UID:d9424a99-fe59-11f0-8342-0242ac11002b-1778401800000-de
DTSTAMP:20260131T040349Z
DTSTART:20260510T083000Z
DTEND:20260510T094500Z
SUMMARY;LANGUAGE=de:Familiengottesdienst, mitgestaltet von der KiTa St. Willibrord
END:VEVENT
END:VCALENDAR
