BEGIN:VCALENDAR
VERSION:2.0
PRODID:http://www.pr-dillingen.de
BEGIN:VEVENT
UID:8eb567e7-fcc7-11f0-8342-0242ac11002b-1778257800000-de
DTSTAMP:20260129T040407Z
DTSTART:20260508T163000Z
DTEND:20260508T170000Z
SUMMARY;LANGUAGE=de:Eucharistische Anbetung in der Kapelle St. Willibrord
END:VEVENT
END:VCALENDAR
