BEGIN:VCALENDAR
VERSION:2.0
PRODID:http://www.pr-dillingen.de
BEGIN:VEVENT
UID:6f1a5633-017e-11f1-8342-0242ac11002b-1778747400000-de
DTSTAMP:20260204T040316Z
DTSTART:20260514T083000Z
DTEND:20260514T093000Z
SUMMARY;LANGUAGE=de:Festhochamt, mitgestaltet vom Kirchenchor Mondorf-Silwingen, anschl. Piddelchesfest
END:VEVENT
END:VCALENDAR
