BEGIN:VCALENDAR
VERSION:2.0
PRODID:http://www.pr-dillingen.de
BEGIN:VEVENT
UID:6b37b107-145a-11f1-8342-0242ac11002b-1780824600000-de
DTSTAMP:20260228T040320Z
DTSTART:20260607T093000Z
DTEND:20260607T101500Z
SUMMARY;LANGUAGE=de:Hochamt mitgest. von Mitarbeitenden des ambulanten Palliativzentrum Beckingen
END:VEVENT
END:VCALENDAR
