BEGIN:VCALENDAR
VERSION:2.0
PRODID:http://www.pr-dillingen.de
BEGIN:VEVENT
UID:5a49c39f-00b5-11f1-8342-0242ac11002b-1778646600000-de
DTSTAMP:20260203T040352Z
DTSTART:20260513T043000Z
DTEND:20260513T051500Z
SUMMARY;LANGUAGE=de: Bittprozession, anschl. Bittmesse, Treffen vor der Kirche 
END:VEVENT
END:VCALENDAR
