BEGIN:VCALENDAR
VERSION:2.0
PRODID:http://www.pr-dillingen.de
BEGIN:VEVENT
UID:437ac2f5-f1c7-11f0-8342-0242ac11002b-1778256000000-de
DTSTAMP:20260115T040418Z
DTSTART:20260508T160000Z
DTEND:20260508T164500Z
SUMMARY;LANGUAGE=de:Maiandacht an der Marienstatue (bei schlechtem Wetter in der Kirche)
END:VEVENT
END:VCALENDAR
