BEGIN:VCALENDAR
VERSION:2.0
PRODID:http://www.pr-dillingen.de
BEGIN:VEVENT
UID:24d7eba6-03da-11f1-8342-0242ac11002b-1779006600000-de
DTSTAMP:20260207T040448Z
DTSTART:20260517T083000Z
DTEND:20260517T094500Z
SUMMARY;LANGUAGE=de:Familiengottesdienst mitgestaltet von der KiTa St. Konrad
END:VEVENT
END:VCALENDAR
