BEGIN:VCALENDAR
VERSION:2.0
PRODID:http://www.pr-dillingen.de
BEGIN:VEVENT
UID:1b4ab158-ffec-11f0-8342-0242ac11002b-1778601600000-de
DTSTAMP:20260202T040318Z
DTSTART:20260512T160000Z
DTEND:20260512T164500Z
SUMMARY;LANGUAGE=de: Bittprozession, anschl. Heilige Messe in der Kapelle St. Willibrord, Treffen am Friedhofseingang Siersdorf 
END:VEVENT
END:VCALENDAR
